BEGIN:VCALENDAR
VERSION:2.0
PRODID:icalendar-ruby
CALSCALE:GREGORIAN
METHOD:PUBLISH
BEGIN:VEVENT
DTSTAMP:20260423T224558Z
UID:34-249238@cclf.ca
DTSTART:20260509T170000Z
DTEND:20260509T190000Z
CLASS:PUBLIC
CREATED:20260423T115127
DESCRIPTION:
LAST-MODIFIED:20260423T115127
LOCATION:Fireside Room
SUMMARY:Extra Mile Session - Irreplaceable
URL;VALUE=URI:https://cclf.ca/events/extra-mile-session-irreplaceable/2026-
 05-09
ATTACH;FILENAME=Irreplaceable-02.jpg;FMTTYPE=image/jpeg:https://dq5pwpg1q8r
 u0.cloudfront.net/2026/04/23/18/51/27/8a115ee5-64ea-4d10-a81a-04e608d84d81
 /Irreplaceable-02.jpg
END:VEVENT
END:VCALENDAR
